BEGIN:VCALENDAR
VERSION:2.0
PRODID:-//eventon.com NONSGML v1.0//EN
BEGIN:VEVENT
UID:69e737019481b
DTSTAMP:20260421T123617
DTSTART:20220921T150000Z
DTEND:20220923T170000Z
LOCATION:
SUMMARY:DWV-ტრენინგი: "დროის მენეჯმენტი"
DESCRIPTION: 2022 წლის 21-23 სექტემბერს გერმანიის ეკონომიკური გაერთიანების (DWV) და შვეიცარიული ფონდი BPN Georgia-ს ორგანიზებით ჩატარდა ჰიბრიდული სემინარი თემაზე“დროის მენეჯმენტი“. დრო შეზღუდულია. დრო ფულია. დრო არ უნდა დავკარგოთ. ჩვენს სემინარზე მონაწილეებმა შეძლეს საკუთარი მუშაობის მეთოდის გაანალიზება და მისი ოპტიმიზაცია\,  პრიორიტეტების განსაზღვრა და დროის ქურდებთან გამკლავება. მათ ისწავლეს დროის დაგეგმვა კლასიკური დროის წიგნაკის და Microsoft[..]
END:VEVENT
END:VCALENDAR