BEGIN:VCALENDAR
VERSION:2.0
PRODID:-//eventon.com NONSGML v1.0//EN
BEGIN:VEVENT
UID:69e736db4b6e6
DTSTAMP:20260421T123539
DTSTART:20221214T140000Z
DTEND:20221214T170000Z
LOCATION:
SUMMARY:DWV-Wirtschaftsstammtisch
DESCRIPTION: Liebe Wirtschaftsstammtischler\,  sehr geehrte Damen und Herren\,  hiermit laden wir Sie herzlich zum nächsten deutsch-georgischen Wirtschaftsstammtisch ein: Am Mittwoch\,  den 14. Dezember 2022\,  ab 18 Uhr im österreichischen Restaurant „Food Seasons“. Adresse: 12 Sulkhan Tsintsadze Str. Die Gäste werden mit köstlichem Glühwein und einem Menü mit Sonderrabatt begrüßt. Alle Teilnehmer werden[..]
END:VEVENT
END:VCALENDAR