BEGIN:VCALENDAR
VERSION:2.0
PRODID:-//eventon.com NONSGML v1.0//EN
BEGIN:VEVENT
UID:69e737034842c
DTSTAMP:20260421T123619
DTSTART:20240206T140000Z
DTEND:20240209T170000Z
LOCATION:BPN Georgia 
SUMMARY:DWV-ტრენინგი: "ბიზნეს ადმინისტრირება"
DESCRIPTION: "ბიზნეს ადმინისტრირება" დასრულდა გერმანიის ეკონომიკური გაერთიანებისა (DWV) და BPN Georgia-ს ერთობლივი ოთხდღიანი ტრენინგი თემაზე: “ბიზნესადმინისტრირება”. სემინარის ფარგლებში განვიხილეთ ბიზნესის ეფექტური მართვის მნიშვნელობა და მისი მეთოდები\,  როგორიცაა სტრატეგიული მენეჯმენტი\,  ბიზნეს ეთიკა და ბიზნეს გეგმა. სემინარის ფარგლებში მონაწილეებმა  ბევრი პრაქტიკული ინდივიდუალური და ჯგუფური დავალება შეასრულეს და განიხილეს მათი შედეგები. მათ გააცნობიერეს\,  სტრატეგიული[..]
END:VEVENT
END:VCALENDAR