BEGIN:VCALENDAR
VERSION:2.0
PRODID:-//eventon.com NONSGML v1.0//EN
BEGIN:VEVENT
UID:69e737032a15f
DTSTAMP:20260421T123619
DTSTART:20240206T140000Z
DTEND:20240209T170000Z
LOCATION:
SUMMARY:DWV-Training: "Betriebswirtschaftslehre"
DESCRIPTION: "Betriebswirtschaftslehre" Das gemeinsame viertägige Training von uns und BPN Georgia zum Thema: “Betriebswirtschaftslehre” ist beendet. Im Rahmen des Seminars diskutierten wir über die Bedeutung einer effektiven Unternehmensführung und deren Methoden wie strategisches Management\,  Businessethik und Businessplanung. Die Teilnehmer absolvierten zahlreiche praktische Einzel- und Gruppenarbeiten und diskutierten über die Ergebnisse. Sie[..]
END:VEVENT
END:VCALENDAR