BEGIN:VCALENDAR
VERSION:2.0
PRODID:-//eventon.com NONSGML v1.0//EN
BEGIN:VEVENT
UID:69e4fb33cbafb
DTSTAMP:20260419T195635
DTSTART:20240620T070000Z
DTEND:20240620T090000Z
LOCATION:Radisson Blu Iveria Tbilisi  First Republic Square 1
SUMMARY:DWV Expert Talk: Der „digitale Vertrag“ und die „elektronische-Signatur“.  Wie sind die rechtlichen Rahmenbedingungen und die Anwendung in der Praxis.
DESCRIPTION: Am 20. Juni veranstaltete die Deutsche Wirtschaftsvereinigung (DWV) in Kooperation mit BLC und Signify exklusiv für die DWV-Mitglieder einen Expert Talk zum Thema: „Der ‚digitale Vertrag‘ und die “elektronische-Signatur‘.“ Wie sind die rechtlichen Rahmenbedingungen und die Anwendung in der Praxis. Die Veranstaltung führten Davit Tabatadze (BLC) - leitender Rechtsanwalt bei[..]
END:VEVENT
END:VCALENDAR