BEGIN:VCALENDAR
VERSION:2.0
PRODID:-//eventon.com NONSGML v1.0//EN
BEGIN:VEVENT
UID:69e73708a6640
DTSTAMP:20260421T123624
DTSTART:20240620T070000Z
DTEND:20240620T090000Z
LOCATION:Radisson Blu Iveria Tbilisi  First Republic Square 1
SUMMARY:DWV Expert Talk: ელექტრონული ხელშეკრულება და ხელმოწერა - საკანონმდებლო რეგულირება და მისი გამოყენება სასამართლო პრაქტიკაში.
DESCRIPTION: 2024 წლის 20 ივნისს\,  გერმანიის ეკონომიკურმა გაერთიანებამ (DWV)\,  ექსკლუზიურად DWV წევრებისთვის\,  BLC-თან და Signify-თან ერთად\,  ჩაატარა Expert Talk თემაზე: "ელექტრონული ხელშეკრულება და ხელმოწერა - საკანონმდებლო რეგულირება და მისი გამოყენება სასამართლო პრაქტიკაში“. ღონისძიებას უძღვებოდნენ დავით ტაბატაძე\,  კომპანია BLC-ის უფროსი იურისტი და ზვიად წოწკოლაური\,  (Signify)- Signify-ს მმართველი პარტნიორი\,  ვორქშოპის ფარგლებში განვიხილეთ შემდეგი თემები: ელექტრონული დოკუმენტებისა და ელექტრონული ხელმოწერების[..]
END:VEVENT
END:VCALENDAR