BEGIN:VCALENDAR
VERSION:2.0
PRODID:-//eventon.com NONSGML v1.0//EN
BEGIN:VEVENT
UID:69e737251dd57
DTSTAMP:20260421T123653
DTSTART:20250513T150000Z
DTEND:20250516T180000Z
LOCATION:
SUMMARY:DWV Seminar: 5 ნაბიჯი ეფექტური მარკეტინგული გეგმისკენ
DESCRIPTION: 2025 წლის 13-დან 16 მაისს გაიმართა გერმანიის ეკონომიკური გაერთიანებისა (DWV) და BPN Georgia-ს ერთობლივი 4 დღიანი სემინარი თემაზე:  5 ნაბიჯი ეფექტური მარკეტინგული გეგმისკენ\,  რომელსაც უძღვებოდა დანიელ მათერი – ტრენერი\,  ქოუჩი\,  ბიზნეს კონსულტანტი\,  „BPN Georgia“-ს დირექტორი. სემინარის მონაწილეებმა მიიღეს ცოდნა\,  თუ როგორ შეიმუშაონ ინდივიდუალური მარკეტინგული კონცეფცია საკუთარი ბიზნესისთვის და გახდნენ წარმატებული.[..]
END:VEVENT
END:VCALENDAR