BEGIN:VCALENDAR
VERSION:2.0
PRODID:-//eventon.com NONSGML v1.0//EN
BEGIN:VEVENT
UID:69e7484b8de0c
DTSTAMP:20260421T135003
DTSTART:20250521T140000Z
DTEND:20250521T170000Z
LOCATION:The Biltmore Hotel Tbilisi Rustaveli Ave. 29 
SUMMARY:DWV - Get Together 21.05.2025
DESCRIPTION: ჩვენი მორიგი ტრადიციული "Get Together" ღონისძიება 21 მაისს სასტუმრო ბილტმორში\,  შედგა. გვინდა\,  მადლობა გადავუხადოთ ჩვენს მასპინძელს\,  სტუმართმოყვარეობისა და მხარდაჭერისთვის.
END:VEVENT
END:VCALENDAR