BEGIN:VCALENDAR
VERSION:2.0
PRODID:-//eventon.com NONSGML v1.0//EN
BEGIN:VEVENT
UID:69e736db48ba3
DTSTAMP:20260421T123539
DTSTART:20250521T140000Z
DTEND:20250521T170000Z
LOCATION:The Biltmore Hotel Tbilisi Rustaveli Ave. 29 
SUMMARY:DWV - Deutsch-Georgischen Wirtschaftsstammtisch 21.05.2025
DESCRIPTION: Den traditionellen Wirtschaftsstammtisch feierte die DWV am 21. Mai in der Azura Garden Bar des The Biltmore Tbilisi Hotels. Wir möchten unserem Gastgeber herzlich für die Gastfreundschaft danken.
END:VEVENT
END:VCALENDAR