BEGIN:VCALENDAR
VERSION:2.0
PRODID:-//eventon.com NONSGML v1.0//EN
BEGIN:VEVENT
UID:69e7370743d54
DTSTAMP:20260421T123623
DTSTART:20250923T150000Z
DTEND:20250926T180000Z
LOCATION:
SUMMARY:სემინარი: HR- თანამშრომელთა მართვა და მოტივირება
DESCRIPTION: 2025 წლის 23-26 სექტემბერს გაიმართა გერმანული ეკონომიკური გაერთიანებისა (DWV) და BPN Georgia-ს ერთობლივი სემინარი თემაზე: „HR-თანამშრომლების მართვა და მოტივირება“. სემინარი იყო ინტერაქტიული და მოიცავდა როგორც თანამედროვე კვლევების განხილვებს\,  ასევე პრაქტიკულ სავარჯიშოებსა და კითხვა-პასუხის სესიებს. გამოცდილმა შვეიცარიელმა ტრენერმა დანიელ მატერმა მონაწილეებს გაუზიარა თავისი ცოდნა და პრაქტიკული გამოცდილება. სემინარის მთავარი თემა იყო[..]
END:VEVENT
END:VCALENDAR