BEGIN:VCALENDAR
VERSION:2.0
PRODID:-//eventon.com NONSGML v1.0//EN
BEGIN:VEVENT
UID:69e772b1046b8
DTSTAMP:20260421T165057
DTSTART:20201027T070000Z
DTEND:20201027T110000Z
LOCATION:
SUMMARY:DWV-ტრენინგი: “New Normal” - როგორ ცვლის პანდემია კორპორაციულ კულტურას?
DESCRIPTION: 27 ოქტომბერს\,  გერმანიის ეკონომიკური გაერთიანების (DWV)\,  EVA-ს და მენტალჰაბ-ის ორგანიზებით\,  ჩატარდა ონლაინ ტრენინგი თემაზე: “New Normal” - როგორ ცვლის პანდემია კორპორაციულ კულტურას? სტრატეგიული HR მართვა და კორპორაციული ფსიქოლოგია ტრენინგს უძღვებოდნენ EVA-ს დამფუძნებელი სალომე არღვლიანი და მენტალჰაბ-ის დამფუძნებელი პარტნიორი აკაკი ბურკაძე. HR პროფესიონალები გაეცნენ კორპორაციული კულტურის ფორმირებას და მასში ცვლილებების ეფექტურად[..]
END:VEVENT
END:VCALENDAR