BEGIN:VCALENDAR
VERSION:2.0
PRODID:-//eventon.com NONSGML v1.0//EN
BEGIN:VEVENT
UID:69e4cef88cf52
DTSTAMP:20260419T164752
DTSTART:20191010T060000Z
DTEND:20191010T130000Z
LOCATION:
SUMMARY:DWV-Training: Neue Vorschriften der Arbeitsschutzgesetzgebung für Unternehmen
DESCRIPTION: Am 10. Oktober 2019 fand das von der Deutschen Wirtschaftsvereinigung (DWV) in Kooperation mit ihrem Mitgliedsunternehmen Toradze & Partners organisierte Training zum Thema „Neue Vorschriften der Arbeitsschutzgesetzgebung für Unternehmen” statt. Das Training wurde von Herrn David Toradze\,  Gründer der Anwaltskanzlei Toradze & Partners und Herrn Temur Begashvili\,  einem praktizierenden Anwalt[..]
END:VEVENT
END:VCALENDAR