BEGIN:VCALENDAR
VERSION:2.0
PRODID:-//eventon.com NONSGML v1.0//EN
BEGIN:VEVENT
UID:69e736cc8c802
DTSTAMP:20260421T123524
DTSTART:20200223T200000Z
DTEND:20200228T195900Z
LOCATION:
SUMMARY:BMWi-Markterkundungsreise Armenien und Georgien
DESCRIPTION: Vom 26. bis 29. Februar begleitete die Deutsche Wirtschaftsvereinigung (DWV) die durch das Bundesministerium für Wirtschaft und Energie (BMWi) geleitete Delegation in Tiflis. Diese wurde in Zusammenarbeit mit dem deutschen Projektpartner „COMMIT Project Partners GmbH“ organisiert und durchgeführt. Im Rahmen der Reise fanden B2B-Meetings zwischen den deutschen Delegationsteilnehmern aus unterschiedlichen[..]
END:VEVENT
END:VCALENDAR