BEGIN:VCALENDAR
VERSION:2.0
PRODID:-//eventon.com NONSGML v1.0//EN
BEGIN:VEVENT
UID:69e4cef86f53c
DTSTAMP:20260419T164752
DTSTART:20210603T070000Z
DTEND:20210603T090000Z
LOCATION:
SUMMARY:DWV-ბიზნეს ფორუმი: მეწარმეთა შესახებ კანონის რეფორმა და მისი გავლენა ბიზნესზე
DESCRIPTION: 2021 წლის 3 ივნისს გაიმართა გერმანიის ეკონომიკური გაერთიანების (DWV) ფორუმი ონლაინ ფორმატში თემაზე “მეწარმეთა შესახებ კანონის რეფორმა და მისი გავლენა ბიზნესზე”. ფორუმზე მოწვეული იყო გერმანიის ფედერალური რესპუბლიკის ელჩი საქართველოში\,  ბატონი ჰუბერტ ქნირში. მოხსნება გააკეთა ივ. ჯავახიშვილის სახ. თბილისის სახელმწიფო უნივერსიტეტის პროფესორმა\,  ირაკლი ბურდულმა.  ღონისძიებას მოდერაციას უწევდა გერმანიის ეკონომიკური გაერთიანების აღმასრულებელი[..]
END:VEVENT
END:VCALENDAR