BEGIN:VCALENDAR
VERSION:2.0
PRODID:-//eventon.com NONSGML v1.0//EN
BEGIN:VEVENT
UID:69eb4a5aa61e6
DTSTAMP:20260424T144754
DTSTART:20210623T100000Z
DTEND:20210623T120000Z
LOCATION:შერატონ გრანდ თბილისი მეტეხი პალასი თელავის ქ. 20
SUMMARY:DWV-Expert Talk: CFO-ს როლი კომპანიის შედეგების გაუმჯობესებაში
DESCRIPTION: 2021 წლის 23 ივნისს გერმანიის ეკონომიკური გაერთიანების ორგანიზებით\,  Nexia TA-სთან პარტნიორობით\,  სასტუმროში „შერატონ გრანდ თბილისი მეტეხი პალასი“ გაიმართა ღონისძიება DWV-Expert Talk თემაზე „CFO-ს როლი კომპანიის შედეგების გაუმჯობესებაში“. ღონისძიება გახსნა გერმანიის ეკონომიკური გაერთიანების აღმასრულებელმა დირექტორმა\,  თომას კიმმესვენგერმა\,  რომელმაც ისაუბრა ორგანიზაციაში არსებულ სიახლეებზე\,  ხაზი გაუსვა განსახილველი საკითხის მნიშვნელობას და თემის აქტუალურობიდან გამომდინარე[..]
END:VEVENT
END:VCALENDAR