BEGIN:VCALENDAR
VERSION:2.0
PRODID:-//eventon.com NONSGML v1.0//EN
BEGIN:VEVENT
UID:69e736dcb317f
DTSTAMP:20260421T123540
DTSTART:20210816T200000Z
DTEND:20210817T195900Z
LOCATION:The Biltmore Hotel Tbilisi Rustaveli Ave. 29 
SUMMARY:Vorentscheid - Start.up! Germany Tour 2021
DESCRIPTION: Erhalten Sie Zugang zur Startup Szene der Rhein-Ruhr-Region Vom 14. bis 17. November 2021 hat eine ausgewählte Gruppe Jungunternehmer aus der ganzen Welt die Möglichkeit\,  einen der vielversprechendsten Hubs Deutschlands für Startups\,  Nordrhein-Westfalen\,  zu erkunden. Im Rahmen der Start.up! Deutschlandtour 2021 lernen Sie Großkonzerne\,  multinationale Unternehmen und Vertreter des deutschen[..]
END:VEVENT
END:VCALENDAR