BEGIN:VCALENDAR
VERSION:2.0
PRODID:-//eventon.com NONSGML v1.0//EN
BEGIN:VEVENT
UID:69e748235b67f
DTSTAMP:20260421T134923
DTSTART:20220420T130000Z
DTEND:20220420T170000Z
LOCATION:
SUMMARY:DWV-WIRTSCHAFTSSTAMMTISCH
DESCRIPTION: Liebe Wirtschaftsstammtischler\,  sehr geehrte Damen und Herren\,  hiermit laden wir Sie herzlich zum nächsten deutsch-georgischen Wirtschaftsstammtisch ein: Am Mittwoch\,  den 20. April 2022\,  ab 17 Uhr\,  in “Mosmieri Wining and Dining”\,  Bamba Rigi Str. 7\,  Tiflis. Wir würden uns sehr freuen\,  Sie begrüßen zu dürfen! Ihre DWV
END:VEVENT
END:VCALENDAR